BEGIN:VCALENDAR
VERSION:2.0
PRODID:-//Federation Victoria - ECPv4.9.14//NONSGML v1.0//EN
CALSCALE:GREGORIAN
METHOD:PUBLISH
X-WR-CALNAME:Federation Victoria
X-ORIGINAL-URL:https://federation.asn.au
X-WR-CALDESC:Events for Federation Victoria
BEGIN:VTIMEZONE
TZID:Australia/Melbourne
BEGIN:STANDARD
TZOFFSETFROM:+1100
TZOFFSETTO:+1000
TZNAME:AEST
DTSTART:20190406T160000
END:STANDARD
BEGIN:DAYLIGHT
TZOFFSETFROM:+1000
TZOFFSETTO:+1100
TZNAME:AEDT
DTSTART:20191005T160000
END:DAYLIGHT
END:VTIMEZONE
BEGIN:VEVENT
DTSTART;VALUE=DATE:20191116
DTEND;VALUE=DATE:20191118
DTSTAMP:20200224T193502
CREATED:20190225T002818Z
LAST-MODIFIED:20190225T003000Z
UID:186-1573862400-1574035199@federation.asn.au
SUMMARY:44th Bendigo National Swap Meet
DESCRIPTION:Featuring\nRestored vehicles from the Veteran\, Vintage Classic Club Bendigo to mark the club’s 50th anniversary. \nBarn find vehicles – a new Swap feature. \nOver 1700 sites selling auto\, motorcycle and engine parts\, tools\, model cars\, and memorabilia.\nbendigoswap.com.au \nDOWNLOAD – 2019 BENDIGO SWAPMEET FLYER \n  \n
URL:https://federation.asn.au/event/44th-bendigo-national-swap-meet/
LOCATION:Bendigo Showgrounds Holmes Road\, Bendigo Showgrounds Holmes Road\, Bendigo\, Vic\, Australia
CATEGORIES:Member Club Events
END:VEVENT
END:VCALENDAR